BEGIN:VCALENDAR
VERSION:2.0
PRODID:-//eventon.com NONSGML v1.0//EN
CALSCALE:GREGORIAN
METHOD:PUBLISH
BEGIN:VEVENT
UID:69e6f8f6c8c25
DTSTAMP:20260421T051134
DTSTART:20191104T104500Z
DTEND:20191104T123000Z
TZID:Europe/Stockholm
LOCATION:Humlegården Konferens 
SUMMARY:Nätverkslunch i Stockholm den 4 november
DESCRIPTION: Nätverkslunch i Stockholm Parera obehag – rustad mot härskartekniker Marianne Scheja\,  legitimerad sjuksköterska\,  vidareutbildad i psykoterapi/KBT\,  skådespelare\,  regissör\,  manusförfattare och TV-producent\,  gästade Legally Lady. Det blev en föreläsning om hur vi kan ta plats\,  skaka av oss och kryssa igenom härskartekniker. Det blev lite diskussion och vi fick med oss[..]\nhttps://legallylady.se/events/natverkslunch-i-stockholm-den-4-november/
URL:https://legallylady.se/events/natverkslunch-i-stockholm-den-4-november/
END:VEVENT
END:VCALENDAR