BEGIN:VCALENDAR
VERSION:2.0
PRODID:-//eventon.com NONSGML v1.0//EN
CALSCALE:GREGORIAN
METHOD:PUBLISH
BEGIN:VEVENT
UID:69e9f3353ca62
DTSTAMP:20260423T112349
DTSTART:20200514T151500Z
DTEND:20200514T170000Z
TZID:Europe/Stockholm
LOCATION:Humlegården Konferens\,  plan 6 
SUMMARY:Grön AW Stockholm 14 maj
DESCRIPTION:   Välkommen på Grön AW! Kickstarta våren med en Soul After Work The JOLO Way! Joina en &#8217;grön&#8217; och energiskapande AW där vi mjukar upp kroppen och får upp värmen. Josefina och Louise kommer att guida dig genom ett enkelt men effektivt träningspass med både yoga och styrkeinslag\,  så kom[..]\nhttps://legallylady.se/events/gron-aw-stockholm-14-maj/
URL:https://legallylady.se/events/gron-aw-stockholm-14-maj/
END:VEVENT
END:VCALENDAR