BEGIN:VCALENDAR
VERSION:2.0
PRODID:-//eventon.com NONSGML v1.0//EN
CALSCALE:GREGORIAN
METHOD:PUBLISH
BEGIN:VEVENT
UID:69e747b59fdc3
DTSTAMP:20260421T104733
DTSTART:20200319T161500Z
DTEND:20200319T183000Z
TZID:Europe/Stockholm
LOCATION:First Hotel G 
SUMMARY:Nätverksträff Göteborg 19 mars
DESCRIPTION:   Välkommen på kvällsträff! Vi gästas av Shoka Åhrman. Shoka är nationalekonom med över 15 år som ekonomisk rådgivare på bank. Hon har även författat boken Medveten ekonomi tillsammans med juristen Frida Treschow.   Hur kan vi använda psykologiska insikter för att ändra våra beteenden? Alla beslut vi tar påverkas[..]\nhttps://legallylady.se/events/natverkstraff-goteborg-19-mars/
URL:https://legallylady.se/events/natverkstraff-goteborg-19-mars/
END:VEVENT
END:VCALENDAR