BEGIN:VCALENDAR
VERSION:2.0
PRODID:-//eventon.com NONSGML v1.0//EN
CALSCALE:GREGORIAN
METHOD:PUBLISH
BEGIN:VEVENT
UID:69e7478720975
DTSTAMP:20260421T104647
DTSTART:20210916T100000Z
DTEND:20210916T104500Z
TZID:Europe/Stockholm
LOCATION:
SUMMARY:Digital lunchföreläsning med Maria Bouvin 16:e september
DESCRIPTION: Torsdagen den 16:e september gästar åter Maria Bouvin oss med den nya digitala lunchföreläsning: Kollegor\,  motparter och andra relationer &#8211; Hur du tar dig från frustration till lugn och lärande Ingenting skapar så mycket känslor\,  negativa som positiva\,  som våra relationer. En kollega kanske gör dig galen var och varannan dag?[..]\nhttps://legallylady.se/events/digital-lunchforelasning-med-maria-bouvin-16e-september/
URL:https://legallylady.se/events/digital-lunchforelasning-med-maria-bouvin-16e-september/
END:VEVENT
END:VCALENDAR