BEGIN:VCALENDAR
VERSION:2.0
PRODID:-//eventon.com NONSGML v1.0//EN
CALSCALE:GREGORIAN
METHOD:PUBLISH
BEGIN:VEVENT
UID:69e7468c583b0
DTSTAMP:20260421T104236
DTSTART:20210909T100000Z
DTEND:20210909T103500Z
TZID:Europe/Stockholm
LOCATION:
SUMMARY:Digital lunchföreläsning med Jenny Jernberg 9:e september
DESCRIPTION: Torsdagen den 26:e augusti gästar åter Jenny Jernberg oss med den nya digitala lunchföreläsning inom retorik. I denna 30 minuters föreläsningen kommer Jenny att fördjupa sig i kroppsspråket och hur det påverkar både intrycket av dig men också hur vi känner oss. Genom att göra små förändringar i hur du[..]\nhttps://legallylady.se/events/digital-lunchforelasning-med-jenny-jernberg-9e-september/
URL:https://legallylady.se/events/digital-lunchforelasning-med-jenny-jernberg-9e-september/
END:VEVENT
END:VCALENDAR