BEGIN:VCALENDAR
VERSION:2.0
PRODID:-//eventon.com NONSGML v1.0//EN
CALSCALE:GREGORIAN
METHOD:PUBLISH
BEGIN:VEVENT
UID:69e745fadf049
DTSTAMP:20260421T104010
DTSTART:20220203T110000Z
DTEND:20220203T114500Z
TZID:Europe/Stockholm
LOCATION:
SUMMARY:Digital lunchföreläsning med Jenny Jernberg 3 februari
DESCRIPTION: Torsdagen den 3 februari gästar åter Jenny Jernberg oss med en ny digital föreläsning om kroppsspråket. Har du tänkt på att en stor del av din kommunikation sker via kroppsspråket? Kan du anta ett säkrare kroppsspråk och börja känna dig säkrare? En stor del av vår kommunikation sker genom vårt[..]\nhttps://legallylady.se/events/digital-lunchforelasning-med-jenny-jernberg-3-februari/
URL:https://legallylady.se/events/digital-lunchforelasning-med-jenny-jernberg-3-februari/
END:VEVENT
END:VCALENDAR