BEGIN:VCALENDAR
VERSION:2.0
PRODID:-//eventon.com NONSGML v1.0//EN
CALSCALE:GREGORIAN
METHOD:PUBLISH
BEGIN:VEVENT
UID:69e629c773efc
DTSTAMP:20260420T142735
DTSTART:20220317T110000Z
DTEND:20220317T114500Z
TZID:Europe/Stockholm
LOCATION:
SUMMARY:Digital lunchföreläsning med Rebecka Riismark 17 mars
DESCRIPTION: Torsdagen den 17 mars gästar advokaten Rebecka Riismark oss för första gången med den digitala lunchföreläsningen ”Tvistemål i tingsrätt – hur går det till?”. Föreläsningen syftar till att ge en övergripande bild av hur tvistemålsprocessen går till i praktiken\,  från klienten och ombudets perspektiv. Hur lägger parterna upp sin talan[..]\nhttps://legallylady.se/events/digital-lunchforelasning-med-rebecka-riismark-17-mars/
URL:https://legallylady.se/events/digital-lunchforelasning-med-rebecka-riismark-17-mars/
END:VEVENT
END:VCALENDAR