BEGIN:VCALENDAR
VERSION:2.0
PRODID:-//eventon.com NONSGML v1.0//EN
CALSCALE:GREGORIAN
METHOD:PUBLISH
BEGIN:VEVENT
UID:69e9439a76716
DTSTAMP:20260422T225434
DTSTART:20220505T100000Z
DTEND:20220505T104500Z
TZID:Europe/Stockholm
LOCATION:
SUMMARY:Digital lunchföreläsning med Rebecka Riismark 5 maj
DESCRIPTION: Torsdagen den 5 maj gästar advokaten Rebecka Riismark oss igen. Nu med den digitala lunchföreläsningen ”Huvudförhandling i tvistemål – vad händer?”. Föreläsningen syftar till att ge en inblick i hur huvudförhandlingen i en tvistemålsprocess vid tingsrätten går till i praktiken\,  från klienten och ombudets perspektiv. Hur lägger man upp en[..]\nhttps://legallylady.se/events/digital-lunchforelasning-med-rebecka-riismark-5-maj/
URL:https://legallylady.se/events/digital-lunchforelasning-med-rebecka-riismark-5-maj/
END:VEVENT
END:VCALENDAR