BEGIN:VCALENDAR
VERSION:2.0
PRODID:-//eventon.com NONSGML v1.0//EN
CALSCALE:GREGORIAN
METHOD:PUBLISH
BEGIN:VEVENT
UID:69e4edba8ceff
DTSTAMP:20260419T155906
DTSTART:20240215T110000Z
DTEND:20240215T114500Z
TZID:Europe/Stockholm
LOCATION:
SUMMARY:Lunchwebbinarium med Jenny Jernberg 15 februari
DESCRIPTION: Retorik och presentation &#8211; Intryck som gör avtryck Jennys mål är att inspirera människor till att växa och få större förståelse för retorik och kommunikation. Den 15 februari håller hon ett lunchwebbinarium om retorik och presentation. Genom att bli stärkt i din retorik och samtidigt få verktygen till att göra proffsiga presentationer kommer du[..]\nhttps://legallylady.se/events/lunchwebbinarium-med-jenny-jernberg-15-februari/
URL:https://legallylady.se/events/lunchwebbinarium-med-jenny-jernberg-15-februari/
END:VEVENT
END:VCALENDAR